BEGIN:VCALENDAR
VERSION:2.0
PRODID:-//Art in America Guide - ECPv6.7.0//NONSGML v1.0//EN
CALSCALE:GREGORIAN
METHOD:PUBLISH
X-WR-CALNAME:Art in America Guide
X-ORIGINAL-URL:https://artinamericaguide.com
X-WR-CALDESC:Events for Art in America Guide
REFRESH-INTERVAL;VALUE=DURATION:PT1H
X-Robots-Tag:noindex
X-PUBLISHED-TTL:PT1H
BEGIN:VTIMEZONE
TZID:America/New_York
BEGIN:DAYLIGHT
TZOFFSETFROM:-0500
TZOFFSETTO:-0400
TZNAME:EDT
DTSTART:20240310T070000
END:DAYLIGHT
BEGIN:STANDARD
TZOFFSETFROM:-0400
TZOFFSETTO:-0500
TZNAME:EST
DTSTART:20241103T060000
END:STANDARD
END:VTIMEZONE
BEGIN:VEVENT
DTSTART;TZID=America/New_York:20240418T100000
DTEND;TZID=America/New_York:20240418T110000
DTSTAMP:20260422T183303
CREATED:20240410T143310Z
LAST-MODIFIED:20240410T143310Z
UID:107819-1713434400-1713438000@artinamericaguide.com
SUMMARY:Close Looking: Islamic-Era Syrian Works from the Museums’ Collections
DESCRIPTION:Join curator Ayşin Yoltar-Yıldırım for an exploration of Islamic-era Syrian objects from our permanent collections. At the start of the session\, Yoltar-Yıldırım will lead a brief discussion of coins\, ceramics\, and tiles from Umayyad\, Abbasid\, Ayyubid\, and Ottoman periods in Syria. \nLed by:\nAyşin Yoltar-Yıldırım\, Norma Jean Calderwood Curator of Islamic and Later Indian Art\, Division of Asian and Mediterranean Art \nFree admission\, but registration is required. You can register by clicking on the event on this form\, beginning on Monday\, April 8. A repeat of this seminar will be held at 11am. \nPlease sign in at the Art Study Center reception desk (Level 4)\, and be prepared to present a photo ID. All coats and bags must be placed in a locker prior to entering the study room. \nThis close-looking session is one of three events related to the 2024 Norma Jean Calderwood Lecture at the Harvard Art Museums\, featuring an artist talk by Mohamad Hafez\, “Preserving Memory and Loss” on April 17. Please see the lecture listing for more information about the related programming. \n  Save  
URL:https://artinamericaguide.com/event/close-looking-islamic-era-syrian-works-from-the-museums-collections/2024-04-18/
LOCATION:Harvard Art Museums\, 32 Quincy Street\, Cambridge\, MA\, 02138
CATEGORIES:Event
ATTACH;FMTTYPE=image/jpeg:https://artinamericaguide.com/wp-content/uploads/2024/04/Tile-with-grapes-and-vine-leaves.jpeg
ORGANIZER;CN="Harvard Art Museums":MAILTO:john_connolly@harvard.edu
END:VEVENT
END:VCALENDAR