BEGIN:VCALENDAR
VERSION:2.0
PRODID:-//Art in America Guide - ECPv6.7.0//NONSGML v1.0//EN
CALSCALE:GREGORIAN
METHOD:PUBLISH
X-ORIGINAL-URL:https://artinamericaguide.com
X-WR-CALDESC:Events for Art in America Guide
REFRESH-INTERVAL;VALUE=DURATION:PT1H
X-Robots-Tag:noindex
X-PUBLISHED-TTL:PT1H
BEGIN:VTIMEZONE
TZID:America/Halifax
BEGIN:DAYLIGHT
TZOFFSETFROM:-0400
TZOFFSETTO:-0300
TZNAME:ADT
DTSTART:20210314T060000
END:DAYLIGHT
BEGIN:STANDARD
TZOFFSETFROM:-0300
TZOFFSETTO:-0400
TZNAME:AST
DTSTART:20211107T050000
END:STANDARD
BEGIN:DAYLIGHT
TZOFFSETFROM:-0400
TZOFFSETTO:-0300
TZNAME:ADT
DTSTART:20220313T060000
END:DAYLIGHT
BEGIN:STANDARD
TZOFFSETFROM:-0300
TZOFFSETTO:-0400
TZNAME:AST
DTSTART:20221106T050000
END:STANDARD
END:VTIMEZONE
BEGIN:VEVENT
DTSTART;TZID=America/Halifax:20211023T120000
DTEND;TZID=America/Halifax:20220108T170000
DTSTAMP:20260421T212838
CREATED:20211008T204713Z
LAST-MODIFIED:20211008T204713Z
UID:89059-1634990400-1641661200@artinamericaguide.com
SUMMARY:JAN MAARTEN VOSKUIL
DESCRIPTION:OCTOBER 23\, 2021 – JANUARY 8\, 2022\nJAN MAARTEN VOSKUIL\nAROUND THE VOID \nMEET THE ARTIST\nSaturday\, October 23 | 4 PM – 6 PM \nPentimenti Gallery welcomes the holiday season with a solo exhibition by Jan Maarten Voskuil. This is the artist’s first solo exhibition at Pentimenti Gallery. \nJan Maarten Voskuil expertly calculates and constructs mathematically precise canvas stretchers\, over which canvas curves and dances in seemingly impossible paraboloids. The painted surfaces of the forms are as luxurious as they are minimal. \nIn this new body of work\, Voskuil opens up “voids” throughout the canvas for the first time. The junctures at which canvas once slotted together now pull apart and allow the medium of space to create forms within the paintings. The work pulls away from itself and reaches towards an airy but violent lightness. \nSeveral works are painted in a subtle array of off-white tones\, relating to the walls they allow to peep through\, and entering a dialogue with the space all around them. The monochromatic paintings in red and blue contrast sharply with these pieces\, and seem to reject the space they inhabit and that which is forced into them through the voids. \nVoskuil’s paintings not only speak in the languages of movement and color\, but joke\, dance\, and make mischief in these visual lexicons. The wry humor imbued in the work juxtaposes its formal precision and structural elegance\, just as sharply as the impossibly fluid contortions of canvas defy every expectation of the material. The smoothness of the surface\, combined with the dramatic movement of the stretched canvas beneath\, obscures the material so fully as to generate an entirely novel materiality. It is an active challenge to read these works as paint on canvas\, and perhaps “activity” is the operative feature of the works\, as they activate the viewer’s senses of space and possibility. \nJan Maarten Voskuil (b. 1964\, Arnhem\, Netherlands) received his MA from State University Groningen\, Groningen\, Netherlands\, and completed post-graduate study at Art Academy Arnhem\, Arnhem\, Netherlands. His recent exhibitions include The Mondriaan House Museum\, Amersfoort\, Netherlands; Gorcums Museum\, Netherlands; Stedelijk Museum Schiedam\, Netherlands; and many other museums and institutions. His work is in the collections of Frans Hals Museum\, Netherlands; Stedelijk Museum\, Netherlands; Museum Boijmans van Beuningen\, Netherlands; Wilhelm-Hack-Museum\, Germany; Museum of Geometric & MADI Art\, Dallas\, TX; Collection Sanquin\, Amsterdam; CCNOA\, Belgium; Museum Voorlinden\, Netherlands; as well as many private and corporate collections. Jan Maarten Voskuil is represented by Pentimenti Gallery in Philadelphia\, PA and Peter Blake Gallery in Laguna Beach\, CA. \nFor all inquiries\, please contact us at mail@pentimenti.com or +1 215.625.9990. \n  Save  
URL:https://artinamericaguide.com/event/jan-maarten-voskuil/2021-10-23/
LOCATION:Pentimenti Gallery\, 145 North 2nd Street\, Philadelphia\, PA\, 19106\, United States
CATEGORIES:Event,Exhibition
ATTACH;FMTTYPE=image/jpeg:https://artinamericaguide.com/wp-content/uploads/2021/10/mailchimpsquaretocube.jpg
ORGANIZER;CN="Pentimenti Gallery":MAILTO:mail@pentimenti.com
GEO:39.9531532;-75.1426579
X-APPLE-STRUCTURED-LOCATION;VALUE=URI;X-ADDRESS=Pentimenti Gallery 145 North 2nd Street Philadelphia PA 19106 United States;X-APPLE-RADIUS=500;X-TITLE=145 North 2nd Street:geo:-75.1426579,39.9531532
END:VEVENT
END:VCALENDAR