BEGIN:VCALENDAR
VERSION:2.0
PRODID:-//Art in America Guide - ECPv6.7.0//NONSGML v1.0//EN
CALSCALE:GREGORIAN
METHOD:PUBLISH
X-ORIGINAL-URL:https://artinamericaguide.com
X-WR-CALDESC:Events for Art in America Guide
REFRESH-INTERVAL;VALUE=DURATION:PT1H
X-Robots-Tag:noindex
X-PUBLISHED-TTL:PT1H
BEGIN:VTIMEZONE
TZID:America/Halifax
BEGIN:DAYLIGHT
TZOFFSETFROM:-0400
TZOFFSETTO:-0300
TZNAME:ADT
DTSTART:20220313T060000
END:DAYLIGHT
BEGIN:STANDARD
TZOFFSETFROM:-0300
TZOFFSETTO:-0400
TZNAME:AST
DTSTART:20221106T050000
END:STANDARD
END:VTIMEZONE
BEGIN:VEVENT
DTSTART;TZID=America/Halifax:20220201T080000
DTEND;TZID=America/Halifax:20220428T170000
DTSTAMP:20260425T114208
CREATED:20220120T172116Z
LAST-MODIFIED:20220120T172116Z
UID:91037-1643702400-1651165200@artinamericaguide.com
SUMMARY:Nancy Macko: The Fragile Bee at the Phillips Museum of Art
DESCRIPTION:As a social practice\, Macko’s work addresses life’s fundamental questions. She photographs the process of the life and death of plants that serves as a metaphor of our brief existence. As an artist working with many media\, including photography\, printmaking\, and installation\, Macko wishes to present the natural world’s often hidden beauty in the photos she takes. In recording the life cycle of bee-attracting flora\, she hopes to shed light on our own brief lifespan. \nIn the exhibition The Fragile Bee\, Macko looks closely at the world of bees\, not only to examine their biology and somatic features\, but also to study their habitat and highly organized society. The group of works consists of four interconnected multi-disciplinary and multi-media installations. This compelling work is not only meant to inform the public about the plight of the bees but also to raise awareness of our interdependent relationship with them. \nArtists’ Reception & Gallery Talk \nThursday\, January 27\, 5:00 p.m.\, Virtual \n  Save  
URL:https://artinamericaguide.com/event/nancy-macko-the-fragile-bee-at-the-phillips-museum-of-art/2022-02-01/
LOCATION:Phillips Museum of Art at Franklin & Marshall College\, 628 College Ave\, Lancaster\, PA\, 17603\, United States
CATEGORIES:Exhibition
ATTACH;FMTTYPE=image/jpeg:https://artinamericaguide.com/wp-content/uploads/2022/01/Meadow-©-Nancy-Macko.jpeg
ORGANIZER;CN="Katharine T. Carter &amp%3B Associates":MAILTO:ktc@ktcassoc.com
GEO:40.047566;-76.318242
X-APPLE-STRUCTURED-LOCATION;VALUE=URI;X-ADDRESS=Phillips Museum of Art at Franklin & Marshall College 628 College Ave Lancaster PA 17603 United States;X-APPLE-RADIUS=500;X-TITLE=628 College Ave:geo:-76.318242,40.047566
END:VEVENT
END:VCALENDAR