BEGIN:VCALENDAR
VERSION:2.0
PRODID:-//Art in America Guide - ECPv6.7.0//NONSGML v1.0//EN
CALSCALE:GREGORIAN
METHOD:PUBLISH
X-ORIGINAL-URL:https://artinamericaguide.com
X-WR-CALDESC:Events for Art in America Guide
REFRESH-INTERVAL;VALUE=DURATION:PT1H
X-Robots-Tag:noindex
X-PUBLISHED-TTL:PT1H
BEGIN:VTIMEZONE
TZID:America/Halifax
BEGIN:DAYLIGHT
TZOFFSETFROM:-0400
TZOFFSETTO:-0300
TZNAME:ADT
DTSTART:20190310T060000
END:DAYLIGHT
BEGIN:STANDARD
TZOFFSETFROM:-0300
TZOFFSETTO:-0400
TZNAME:AST
DTSTART:20191103T050000
END:STANDARD
END:VTIMEZONE
BEGIN:VEVENT
DTSTART;VALUE=DATE:20190522
DTEND;VALUE=DATE:20190630
DTSTAMP:20260421T105946
CREATED:20190529T152135Z
LAST-MODIFIED:20190529T152135Z
UID:54548-1558483200-1561852799@artinamericaguide.com
SUMMARY:Thomas Ruff: Transforming Photography
DESCRIPTION:David Zwirner is pleased to present work by German photographer Thomas Ruff\, on view across two floors of the gallery’s Hong Kong location. The exhibition will provide an overview of the artist’s prodigious career\, ranging from seminal early series to a new body of work. \nRuff rose to international prominence in the late 1980s as a member of the Düsseldorf School\, a group of young photographers who had studied under Bernd and Hilla Becher at the renowned Kunstakademie Düsseldorf and became known for their experimental approach to the medium and its evolving technological capabilities. Ruff in particular made a radical break with the style of his teachers\, establishing a distinct approach to conceptual photography through a variety of strategies\, including the use of color\, the purposeful manipulation of source imagery—originally through manual retouching techniques and eventually through digital methods—and the enlargement of the photographic print to the scale of monumental painting. Working in discrete series\, Ruff has since utilized these methods to conduct an in-depth examination of a variety of photographic genres\, including portraiture\, the nude\, landscape\, and architectural photography\, among others. \nHighly influential to subsequent generations of photographers\, Ruff’s overarching inquiry into the nature of photographic representation accounts for not only his heterogeneous subject matter\, but also the extreme variation of technical means used to produce his series\, ranging from anachronistic devices to the most advanced computer simulators and covering nearly all ground in between. As he has noted\, “I always want to take the medium of photography into the picture\, so that you are always aware that you are looking at an image—a photograph—so\, in the picture I hope you can see two things: the image itself\, plus the reflection—or the thinking—about photography…. It is as if I am investigating the grammar of photography.”1 \nOn view will be examples from a number of key series including sterne (1989–1992)\, nudes (1999–)\, Substrate (2001–)\, jpeg (2004–)\, phg. (2012–)\, tripe (2018)\, and flower.s (2018–). \nThis will be Ruff’s tenth solo exhibition with David Zwirner since joining the gallery in 2000. On the occasion\, a new publication on Ruff’s work\, featuring an interview with the artist by Okwui Enwezor\, is forthcoming from David Zwirner Books\, and will be available in both English-only and bilingual English/traditional Chinese editions. \n1 Guy Lane\, “Thomas Ruff Interview\,” Foto8 Blog (October 24\, 2009)\, accessed online. \nImage: Installation view\, Thomas Ruff: Transforming Photography\, David Zwirner\, Hong Kong\, 2019
URL:https://artinamericaguide.com/event/thomas-ruff-transforming-photography/
LOCATION:David Zwirner Hong Kong\, 5-6/F\, H Queen’s\, 80 Queen’s Road Central\, Hong Kong\, Hong Kong
CATEGORIES:Exhibition
ATTACH;FMTTYPE=image/png:https://artinamericaguide.com/wp-content/uploads/2019/05/6.png
ORGANIZER;CN="David Zwirner Hong Kong":MAILTO:hongkong@davidzwirner.com
GEO:22.283054;114.1553411
X-APPLE-STRUCTURED-LOCATION;VALUE=URI;X-ADDRESS=David Zwirner Hong Kong 5-6/F H Queen’s 80 Queen’s Road Central Hong Kong Hong Kong;X-APPLE-RADIUS=500;X-TITLE=5-6/F\, H Queen’s\, 80 Queen’s Road Central\, Hong Kong:geo:114.1553411,22.283054
END:VEVENT
END:VCALENDAR