BEGIN:VCALENDAR
VERSION:2.0
PRODID:-//Art in America Guide - ECPv6.7.0//NONSGML v1.0//EN
CALSCALE:GREGORIAN
METHOD:PUBLISH
X-ORIGINAL-URL:https://artinamericaguide.com
X-WR-CALDESC:Events for Art in America Guide
REFRESH-INTERVAL;VALUE=DURATION:PT1H
X-Robots-Tag:noindex
X-PUBLISHED-TTL:PT1H
BEGIN:VTIMEZONE
TZID:America/Halifax
BEGIN:DAYLIGHT
TZOFFSETFROM:-0400
TZOFFSETTO:-0300
TZNAME:ADT
DTSTART:20200308T060000
END:DAYLIGHT
BEGIN:STANDARD
TZOFFSETFROM:-0300
TZOFFSETTO:-0400
TZNAME:AST
DTSTART:20201101T050000
END:STANDARD
END:VTIMEZONE
BEGIN:VEVENT
DTSTART;TZID=America/Halifax:20200904T180000
DTEND;TZID=America/Halifax:20200904T210000
DTSTAMP:20260420T163630
CREATED:20200714T184902Z
LAST-MODIFIED:20200722T170942Z
UID:69981-1599242400-1599253200@artinamericaguide.com
SUMMARY:Opening Reception: DANIEL DOMIG - Where Hopes Infest
DESCRIPTION:Happy gloom!\nDark Paradise! where pale becomes the bloom\nOf health by due; where silence dreariest\nIs most articulate; where hopes infest ;\nWhere those eyes are the brightest far that keep\nTheir lids shut longest in a dreamless sleep. \nJohn Keats\, Hyperion \n\nImage:\nDaniel Domig\nAnd After This Our Exile\, 2013\nOil on canvas\n59 x 59 in. (149.9 x 149.9 cm)\nCourtesy of Diana Lowenstein Gallery
URL:https://artinamericaguide.com/event/opening-reception-daniel-domig-where-hopes-infest/
LOCATION:Diana Lowenstein Gallery\, 326 NE 61st Street\, MIAMI\, FL\, 33137\, United States
CATEGORIES:Exhibition
ATTACH;FMTTYPE=image/jpeg:https://artinamericaguide.com/wp-content/uploads/2017/04/resizeimage-1.jpg
ORGANIZER;CN="Diana Lowenstein Gallery":MAILTO:dlfa@lionstone.net
GEO:25.8322742;-80.1895414
X-APPLE-STRUCTURED-LOCATION;VALUE=URI;X-ADDRESS=Diana Lowenstein Gallery 326 NE 61st Street MIAMI FL 33137 United States;X-APPLE-RADIUS=500;X-TITLE=326 NE 61st Street:geo:-80.1895414,25.8322742
END:VEVENT
BEGIN:VEVENT
DTSTART;TZID=America/Halifax:20200616T100000
DTEND;TZID=America/Halifax:20200731T170000
DTSTAMP:20260420T163630
CREATED:20200616T162222Z
LAST-MODIFIED:20200618T202932Z
UID:68787-1592301600-1596214800@artinamericaguide.com
SUMMARY:On view at Diana Lowenstein Gallery
DESCRIPTION:Based in Miami’s Magic City District\, Diana Lowenstein Gallery has 30 years of specialized experience presenting modern and contemporary art in the United States and across the globe.  Lowenstein Gallery runs a year-long exhibition program in Miami and participates in the world’s most exclusive art fairs\, presenting the works of its stable of international artists.
URL:https://artinamericaguide.com/event/diana-lowenstein/
LOCATION:Diana Lowenstein Gallery\, 326 NE 61st Street\, MIAMI\, FL\, 33137\, United States
CATEGORIES:Exhibition
ATTACH;FMTTYPE=image/jpeg:https://artinamericaguide.com/wp-content/uploads/2020/06/IMG_4879-scaled.jpg
ORGANIZER;CN="Diana Lowenstein Gallery":MAILTO:dlfa@lionstone.net
GEO:25.8322742;-80.1895414
X-APPLE-STRUCTURED-LOCATION;VALUE=URI;X-ADDRESS=Diana Lowenstein Gallery 326 NE 61st Street MIAMI FL 33137 United States;X-APPLE-RADIUS=500;X-TITLE=326 NE 61st Street:geo:-80.1895414,25.8322742
END:VEVENT
END:VCALENDAR