BEGIN:VCALENDAR
VERSION:2.0
PRODID:-//Art in America Guide - ECPv6.7.0//NONSGML v1.0//EN
CALSCALE:GREGORIAN
METHOD:PUBLISH
X-WR-CALNAME:Art in America Guide
X-ORIGINAL-URL:https://artinamericaguide.com
X-WR-CALDESC:Events for Art in America Guide
REFRESH-INTERVAL;VALUE=DURATION:PT1H
X-Robots-Tag:noindex
X-PUBLISHED-TTL:PT1H
BEGIN:VTIMEZONE
TZID:America/Halifax
BEGIN:DAYLIGHT
TZOFFSETFROM:-0400
TZOFFSETTO:-0300
TZNAME:ADT
DTSTART:20190310T060000
END:DAYLIGHT
BEGIN:STANDARD
TZOFFSETFROM:-0300
TZOFFSETTO:-0400
TZNAME:AST
DTSTART:20191103T050000
END:STANDARD
END:VTIMEZONE
BEGIN:VEVENT
DTSTART;TZID=America/Halifax:20190927T180000
DTEND;TZID=America/Halifax:20191207T170000
DTSTAMP:20260419T161348
CREATED:20190927T193923Z
LAST-MODIFIED:20190927T200523Z
UID:60419-1569607200-1575738000@artinamericaguide.com
SUMMARY:NEW\, FIVE: KCAI Biennial
DESCRIPTION:The H&R Block Artspace is pleased to announce the opening of NEW\, FIVE: KCAI Biennial. This exhibition introduces new and recent works by artists\, designers\, poets\, and scholars who have recently been appointed to the faculty of the Kansas City Art Institute.  \nNEW\, FIVE: KCAI Biennial features a range of media including drawing\, sculpture\, ceramics\, video\, stop-motion animation\, graphic design\, illustration\, and text.
URL:https://artinamericaguide.com/event/new-five-kcai-biennial/
CATEGORIES:Exhibition
ATTACH;FMTTYPE=image/jpeg:https://artinamericaguide.com/wp-content/uploads/2019/09/Artspace_NewFive_Casey_Whittier_sm_crop.jpg
ORGANIZER;CN="H&amp%3BR Block Artspace":MAILTO:mdcain@kcai.edu
END:VEVENT
BEGIN:VEVENT
DTSTART;TZID=America/Halifax:20190626T120000
DTEND;TZID=America/Halifax:20190928T170000
DTSTAMP:20260419T161348
CREATED:20190927T202225Z
LAST-MODIFIED:20191001T001615Z
UID:60421-1561550400-1569690000@artinamericaguide.com
SUMMARY:Selections from the Collection: Printed Reflections
DESCRIPTION:H&R Block Artspace presents Selections from the Collection: Printed Reflections\, a small survey of works curated by H&R Block Fellow Isabel Vargas for the Cohen Resource Room featuring African American artists who have previously exhibited at the Artspace. This exhibition reflects on the ways in which these artists have impacted the Artspace and local and greater community through examinations of race and identity within their works. The exhibition features works by Rashawn Griffin\, Kahlil Irving\, and Paul Anthony Smith in context with work by Cara Walker from the Kansas City Art Institute’s teaching collection.
URL:https://artinamericaguide.com/event/selections-from-the-collection-printed-reflections/
CATEGORIES:Exhibition
ATTACH;FMTTYPE=image/jpeg:https://artinamericaguide.com/wp-content/uploads/2019/09/Rashawn-Griffin_litho_sm_nodeckle_white_srgb.jpg
ORGANIZER;CN="H&amp%3BR Block Artspace":MAILTO:mdcain@kcai.edu
END:VEVENT
BEGIN:VEVENT
DTSTART;TZID=America/Halifax:20190607T180000
DTEND;TZID=America/Halifax:20190831T180000
DTSTAMP:20260419T161348
CREATED:20190623T154110Z
LAST-MODIFIED:20190623T154110Z
UID:57557-1559930400-1567274400@artinamericaguide.com
SUMMARY:Now/Here
DESCRIPTION:Now/Here is a group exhibition featuring Kansas City-based artists who explore narratives of experience\, memory\, place\, history\, and race.  Organized by Guest Curator Silvia Beatriz Abisaab\, Now/Here features a selection of works that include installation\, painting\, photography\, prints\, and sculpture\, and a range of visual languages and approaches to materiality that consider questions of representation and identity. \nFeatured artists: Patricia Bordallo Dibildox\, Ruben Castillo\, Jorge García Almodóvar\, Rashawn Griffin\, Kwanza Humphrey\, Kathy Liao\, Whitney Manney\, Desiree Morales\, Andrew Ordonez\, Carlos Ortiz-Gallo\, Rebeka Pech Moguel\, Anthony Marcos Rea\, William Plummer\, Angelica Sandoval\, Kiki Serna\, Hyeyoung Shin\, Chico Sierra\, Heinrich Toh\, William Toney.
URL:https://artinamericaguide.com/event/now-here/
LOCATION:MO\, United States
CATEGORIES:Exhibition
ATTACH;FMTTYPE=image/jpeg:https://artinamericaguide.com/wp-content/uploads/2019/06/Serna-Kiki_1_sm.jpg
ORGANIZER;CN="H&amp%3BR Block Artspace":MAILTO:mdcain@kcai.edu
GEO:37.9642529;-91.8318334
END:VEVENT
BEGIN:VEVENT
DTSTART;VALUE=DATE:20190405
DTEND;VALUE=DATE:20191013
DTSTAMP:20260419T161348
CREATED:20190623T154048Z
LAST-MODIFIED:20190927T192809Z
UID:57561-1554422400-1570924799@artinamericaguide.com
SUMMARY:Project Wall: Stanley Whitney
DESCRIPTION:Representing his first commissioned public art project\, internationally recognized artist Stanley Whitney and Kansas City Art Institute alumnus will utilize the H&R Block Artspace Project Wall to deliver an emphatic message. \nKnown for his painterly\, abstract compositions of organic grids with vertical and horizontal bands and blocks in vibrant hues\, Whitney’s characteristic approach to painting is as an architect and builder of pictorial color. Parallel to this deep\, lifelong study\, however\, is a smaller and lesser known series of drawings by the artist with words and phrases that explore relationships between text and image and their attendant meanings. \nIn No to Prison Life\, Whitney worked with Guest Curator Larry Ossei-Mensah\, Museum of Contemporary Art Detroit (MOCAD) Susanne Feld Hilberry Senior Curator\, to create and contextualize a new work of art for his alma mater. Whitney’s Project Wall intentionally combines painting and drawing to register an urgent public protest against a U.S. judicial system that promotes arrest\, incarceration\, and other forms of imprisonment that often further damages lives. \nWhitney recently introduced the public to the phrase “No to Prison Life” as the title for a painting created for the international Documenta 14 exhibition in Athens\, Greece and Kassel\, Germany\, in 2017.  In this new context\, however\, the artist uses his agency to create a work that merges his stylistic painting with a provocative message and in so doing broadcasts an alert regarding the disproportionate number of African Americans in U.S. prisons.
URL:https://artinamericaguide.com/event/project-wall-stanley-whitney/
CATEGORIES:Exhibition
ATTACH;FMTTYPE=image/jpeg:https://artinamericaguide.com/wp-content/uploads/2019/06/No_to_Prison_Life_Billboard_lowres.jpg
ORGANIZER;CN="H&amp%3BR Block Artspace":MAILTO:mdcain@kcai.edu
END:VEVENT
END:VCALENDAR