BEGIN:VCALENDAR
VERSION:2.0
PRODID:-//Art in America Guide - ECPv6.7.0//NONSGML v1.0//EN
CALSCALE:GREGORIAN
METHOD:PUBLISH
X-WR-CALNAME:Art in America Guide
X-ORIGINAL-URL:https://artinamericaguide.com
X-WR-CALDESC:Events for Art in America Guide
REFRESH-INTERVAL;VALUE=DURATION:PT1H
X-Robots-Tag:noindex
X-PUBLISHED-TTL:PT1H
BEGIN:VTIMEZONE
TZID:America/New_York
BEGIN:DAYLIGHT
TZOFFSETFROM:-0500
TZOFFSETTO:-0400
TZNAME:EDT
DTSTART:20260308T070000
END:DAYLIGHT
BEGIN:STANDARD
TZOFFSETFROM:-0400
TZOFFSETTO:-0500
TZNAME:EST
DTSTART:20261101T060000
END:STANDARD
END:VTIMEZONE
BEGIN:VEVENT
DTSTART;VALUE=DATE:20260402
DTEND;VALUE=DATE:20260510
DTSTAMP:20260422T131508
CREATED:20260408T184656Z
LAST-MODIFIED:20260408T184656Z
UID:116171-1775088000-1778371199@artinamericaguide.com
SUMMARY:Katie DeGroot: The Arboreal Life
DESCRIPTION:Kathryn Markel Fine Arts is pleased to announce The Arboreal Life\, an exhibition of new paintings by Katie DeGroot. DeGroot’s work transforms trees into expressive figures\, staging them in scenes that reflect human relationships with nuance and humor. This will be her third solo exhibition with the gallery. A reception will be held on April 9th from 6-8 PM.
URL:https://artinamericaguide.com/event/katie-degroot-the-arboreal-life/
LOCATION:179 10th Ave\, 179 10th Ave\, New York\, NY\, 10011\, United States
ATTACH;FMTTYPE=image/jpeg:https://artinamericaguide.com/wp-content/uploads/2026/03/groo133-scaled.jpg
ORGANIZER;CN="Kathryn Markel Fine Arts":MAILTO:markel@markelfinearts.com
END:VEVENT
BEGIN:VEVENT
DTSTART;VALUE=DATE:20260402
DTEND;VALUE=DATE:20260510
DTSTAMP:20260422T131508
CREATED:20260408T184656Z
LAST-MODIFIED:20260415T194119Z
UID:116179-1775088000-1778371199@artinamericaguide.com
SUMMARY:Jacquelyn Strycker: Pattern of a Pattern
DESCRIPTION:Kathryn Markel Fine Arts is pleased to announce Pattern of a Pattern\, an exhibition of new mixed media works on paper by Jacquelyn Strycker. This will be her first solo exhibition with the gallery.  A reception will be held on April 9th\, 6-8pm.
URL:https://artinamericaguide.com/event/jacquelyn-strycker-pattern-of-a-pattern/
LOCATION:Kathryn Markel Fine Arts\, 179 Tenth Avenue\, New York\, 10011\, United States
CATEGORIES:Exhibition
ATTACH;FMTTYPE=image/jpeg:https://artinamericaguide.com/wp-content/uploads/2026/03/str046-scaled.jpg
ORGANIZER;CN="Kathryn Markel Fine Arts":MAILTO:markel@markelfinearts.com
END:VEVENT
BEGIN:VEVENT
DTSTART;VALUE=DATE:20260409
DTEND;VALUE=DATE:20260517
DTSTAMP:20260422T131508
CREATED:20260408T184656Z
LAST-MODIFIED:20260408T184656Z
UID:116175-1775692800-1778975999@artinamericaguide.com
SUMMARY:Anthony Falcetta: Understories
DESCRIPTION:Kathryn Markel Fine Arts is pleased to announce an exhibition of new paintings by Anthony Falcetta.  Falcetta’s abstractions center on color\, surface and process\, where what appears as form gives way to evidence of its making. The exhibition title Understories reflects this approach\, evoking the forest floor and its accumulated layers.  This is his second solo exhibition with the gallery. A reception for the artist will be held on April 9th from 6-8pm.
URL:https://artinamericaguide.com/event/anthony-falcetta-understories/
LOCATION:529 W 20th St. 6W\, 529 W 20th St. 6W\, New York\, NY\, 10011\, United States
ATTACH;FMTTYPE=image/jpeg:https://artinamericaguide.com/wp-content/uploads/2026/03/fal023.jpg
ORGANIZER;CN="Kathryn Markel Fine Arts":MAILTO:markel@markelfinearts.com
END:VEVENT
BEGIN:VEVENT
DTSTART;VALUE=DATE:20260409
DTEND;VALUE=DATE:20260517
DTSTAMP:20260422T131508
CREATED:20260408T184656Z
LAST-MODIFIED:20260408T184656Z
UID:116183-1775692800-1778975999@artinamericaguide.com
SUMMARY:Tess Michalik: Sea Iris
DESCRIPTION:Kathryn Markel Fine Arts is pleased to announce Sea Violet\, an exhibition of new paintings by Tess Michalik.  Her work explores material and its relationship to gesture. This is her first solo exhibition with the gallery. A reception for the artist will be held on April 9th from 6-8pm.
URL:https://artinamericaguide.com/event/tess-michalik-sea-iris/
LOCATION:529 W 20th St. 6W\, 529 W 20th St. 6W\, New York\, NY\, 10011\, United States
ATTACH;FMTTYPE=image/jpeg:https://artinamericaguide.com/wp-content/uploads/2026/03/mic064-scaled.jpeg
ORGANIZER;CN="Kathryn Markel Fine Arts":MAILTO:markel@markelfinearts.com
END:VEVENT
END:VCALENDAR