BEGIN:VCALENDAR
VERSION:2.0
PRODID:-//Art in America Guide - ECPv6.7.0//NONSGML v1.0//EN
CALSCALE:GREGORIAN
METHOD:PUBLISH
X-ORIGINAL-URL:https://artinamericaguide.com
X-WR-CALDESC:Events for Art in America Guide
REFRESH-INTERVAL;VALUE=DURATION:PT1H
X-Robots-Tag:noindex
X-PUBLISHED-TTL:PT1H
BEGIN:VTIMEZONE
TZID:America/New_York
BEGIN:DAYLIGHT
TZOFFSETFROM:-0500
TZOFFSETTO:-0400
TZNAME:EDT
DTSTART:20260308T070000
END:DAYLIGHT
BEGIN:STANDARD
TZOFFSETFROM:-0400
TZOFFSETTO:-0500
TZNAME:EST
DTSTART:20261101T060000
END:STANDARD
END:VTIMEZONE
BEGIN:VEVENT
DTSTART;VALUE=DATE:20260409
DTEND;VALUE=DATE:20260510
DTSTAMP:20260421T044535
CREATED:20260325T165823Z
LAST-MODIFIED:20260325T165823Z
UID:116144-1775692800-1778371199@artinamericaguide.com
SUMMARY:Waves of Knowing
DESCRIPTION:RYAN LEE Gallery is pleased to announce Waves of Knowing\, an exhibition of paintings\, sculpture\, and works on paper by artists associated with the Metcalf Chateau group from Hawai‘i: Satoru Abe (1926-2025)\, Bumpei Akaji (1921-2002)\, Tetsuo Ochikubo (1923- 1975)\, Tadashi Sato (1923-2005)\, and Harry Tsuchidana (1932-). Many of these artists have never been shown on the mainland United States\, or haven’t been shown on the mainland since the 1960s. Their work combines the ideas of Abstract Expressionism learned during their time in New York and Europe with inspiration from the Hawaiian landscape and waters.
URL:https://artinamericaguide.com/event/waves-of-knowing/
LOCATION:RYAN LEE\, 515 W 26th St\, 3rd Fl\, New York\, NY\, 10001\, United States
ATTACH;FMTTYPE=image/jpeg:https://artinamericaguide.com/wp-content/uploads/2026/03/SAB-26-01-RL.jpg
ORGANIZER;CN="RYAN LEE":MAILTO:info@ryanleegallery.com
GEO:40.7500935;-74.0036112
X-APPLE-STRUCTURED-LOCATION;VALUE=URI;X-ADDRESS=RYAN LEE 515 W 26th St 3rd Fl New York NY 10001 United States;X-APPLE-RADIUS=500;X-TITLE=515 W 26th St\, 3rd Fl:geo:-74.0036112,40.7500935
END:VEVENT
BEGIN:VEVENT
DTSTART;TZID=America/New_York:20260514T080000
DTEND;TZID=America/New_York:20260620T170000
DTSTAMP:20260421T044535
CREATED:20260417T194927Z
LAST-MODIFIED:20260417T194927Z
UID:116278-1778745600-1781974800@artinamericaguide.com
SUMMARY:Tiffany Chung: traces
DESCRIPTION:RYAN LEE Gallery is pleased to announce traces\, an exhibition of embroidery\, installation\, sculpture\, video\, and works on paper by Tiffany Chung. Chung’s recent projects explore earth’s deep times\, Neolithic ditched and walled enclosures\, and ancient global connections through the 3\,500-year-old spice trade. Chung reorients the world through history\, disentangling and reweaving the environmental\, cultural\, economic\, and political threads that have created global narratives over millennia. Curator Orianna Cacchione has described Chung’s practice as an “insatiable search for knowledge itself.” Writing on Chung’s cartographic works\, Cacchione explained\, “The meticulously rendered infographics shuttle between legibility and illegibility\, recognition and erasure\, the poetic and the empirical\, setting up a dialectical tension that is threaded throughout Chung’s works.” \nChung’s conceptual framework is built upon two key pursuits. One is the multiplicity of history\, challenging accepted narratives by filling in the gaps left out of official accounts\, to shift and reclaim the discourse. The other is the entanglements of social\, political\, economic\, and environmental processes across times and terrains\, entwined in landscape archaeology and historical ecology – the intricate relationship between humans\, the built environment\, and the natural world. \nIn some of the work on view\, Chung explores the movements of plants and spices through space and time\, as they have been traded across the world from ancient times to today. In studies of exotic botanical organisms and spices from the ends of the earth in quest of market dominance (2025)\, Chung pairs embroidered illustrations of spice plants with jars displaying the spices themselves. The embroidered map Global Spice Trade: routes from ancient time to the age of exploration/exploitation (2024-25) casts an overview of the early global economic integration. Proposing that globalization began long before the 1400s\, the work charts ancient spice trade routes connecting Asia\, Africa\, Europe\, and the Americas. Chung says\, “The spices’ trajectories across time and space link commerce\, maritime development\, conflict\, and colonialism\, which led to modern capitalism. They tell stories about how globalization began – through trade\, migration\, linguistic movements\, culinary and cultural adaptation – and how it is inevitably intertwined with wars.” \nChung’s works on paper depict traces of Neolithic ditched and walled enclosures dating from 5000 BCE found across Central Europe and the Iberian Peninsula\, as well as Vietnam and Cambodia (2300-300 BCE). While suggesting possible prehistoric global connections\, Chung notes how these traces of our material culture also indicate the human-driven alterations of landscapes\, flora\, and fauna throughout history. Such traces take another physical form in Chung’s latest project\, the world through my mother’s cabinets of curiosities (cabinet no.2) (2026)\, with whimsical miniature sculptures created from discarded objects and materials donated to her by family and friends. As Chung seeks to bring new meanings to old objects embedded with personal history\, these sculptures depict and reflect on human experience of disasters and survival\, our impact on the environment\, and the rebound and taking over by nature in the aftermath. \nClosing the loop with traces from earth’s deep time\, Chung’s immersive 360° video\, Spheres of Time (2026)\, was screened at UCSB’s AlloSphere research facility. The artist has reworked the video for RLWindow\, viewable from the High Line at 26th Street. The video traverses across traces of different landscapes over stretches of geological and generational time. Contemplating earth’s deep time amid our social\, political\, economic and environmental processes\, the work situates human civilizations as part of an expansive natural history. traces as a whole reminds us that the imprints of our past are carried into the future\, and that we are responsible for the care of creation and sustainable ecology\, beyond human history. \nTiffany Chung (b. 1969 Da Nang\, Vietnam) is globally noted for her interdisciplinary practice cultivated through rigorous analysis of the history\, culture and topography of different locales. Based on painstaking research\, Chung’s work perceptively visualizes the entangled effects of geopolitical change on people and nature. Entwined in threads of landscape archaeology and historical ecology\, Chung uses cultural memories and lived experiences to weave interventions into the narrative produced through statecraft. Chung explores the interconnected layers of history that create globalized networks\, from the ancient spice trade to present-day patterns of migration to the future impacts of climate change.
URL:https://artinamericaguide.com/event/tiffany-chung-traces/
LOCATION:RYAN LEE\, 515 W 26th St\, 3rd Fl\, New York\, NY\, 10001\, United States
ATTACH;FMTTYPE=image/jpeg:https://artinamericaguide.com/wp-content/uploads/2026/04/Global-Spice-Trade_-routes-from-ancient-time-to-the-age-of-exploration.jpg
ORGANIZER;CN="RYAN LEE":MAILTO:info@ryanleegallery.com
GEO:40.7500935;-74.0036112
X-APPLE-STRUCTURED-LOCATION;VALUE=URI;X-ADDRESS=RYAN LEE 515 W 26th St 3rd Fl New York NY 10001 United States;X-APPLE-RADIUS=500;X-TITLE=515 W 26th St\, 3rd Fl:geo:-74.0036112,40.7500935
END:VEVENT
END:VCALENDAR