BEGIN:VCALENDAR
VERSION:2.0
PRODID:-//Art in America Guide - ECPv6.7.0//NONSGML v1.0//EN
CALSCALE:GREGORIAN
METHOD:PUBLISH
X-ORIGINAL-URL:https://artinamericaguide.com
X-WR-CALDESC:Events for Art in America Guide
REFRESH-INTERVAL;VALUE=DURATION:PT1H
X-Robots-Tag:noindex
X-PUBLISHED-TTL:PT1H
BEGIN:VTIMEZONE
TZID:America/Halifax
BEGIN:DAYLIGHT
TZOFFSETFROM:-0400
TZOFFSETTO:-0300
TZNAME:ADT
DTSTART:20190310T060000
END:DAYLIGHT
BEGIN:STANDARD
TZOFFSETFROM:-0300
TZOFFSETTO:-0400
TZNAME:AST
DTSTART:20191103T050000
END:STANDARD
END:VTIMEZONE
BEGIN:VEVENT
DTSTART;TZID=America/Halifax:20190427T120000
DTEND;TZID=America/Halifax:20190427T170000
DTSTAMP:20260425T113743
CREATED:20190417T191639Z
LAST-MODIFIED:20190417T191639Z
UID:51417-1556366400-1556384400@artinamericaguide.com
SUMMARY:ISDay Studio Visit – Martha Dunham
DESCRIPTION:Martha Dunham is pleased to open her woodland studio to the public on Saturday April 27\, 2019. On view and available will be a collection of sculptures\, paintings\, photography and works on paper spanning her career\, as well as new work completed in the last three months.
URL:https://artinamericaguide.com/event/isday-studio-visit-martha-dunham/
LOCATION:WA\, United States
CATEGORIES:Event
ATTACH;FMTTYPE=image/jpeg:https://artinamericaguide.com/wp-content/uploads/2019/04/Rounding-all-the-Corners-small.jpeg
ORGANIZER;CN="Dendroica Gallery":MAILTO:info@dendroica.gallery
GEO:47.7510741;-120.7401385
END:VEVENT
END:VCALENDAR