BEGIN:VCALENDAR
VERSION:2.0
PRODID:-//Art in America Guide - ECPv6.7.0//NONSGML v1.0//EN
CALSCALE:GREGORIAN
METHOD:PUBLISH
X-ORIGINAL-URL:https://artinamericaguide.com
X-WR-CALDESC:Events for Art in America Guide
REFRESH-INTERVAL;VALUE=DURATION:PT1H
X-Robots-Tag:noindex
X-PUBLISHED-TTL:PT1H
BEGIN:VTIMEZONE
TZID:America/New_York
BEGIN:DAYLIGHT
TZOFFSETFROM:-0500
TZOFFSETTO:-0400
TZNAME:EDT
DTSTART:20240310T070000
END:DAYLIGHT
BEGIN:STANDARD
TZOFFSETFROM:-0400
TZOFFSETTO:-0500
TZNAME:EST
DTSTART:20241103T060000
END:STANDARD
BEGIN:DAYLIGHT
TZOFFSETFROM:-0500
TZOFFSETTO:-0400
TZNAME:EDT
DTSTART:20250309T070000
END:DAYLIGHT
BEGIN:STANDARD
TZOFFSETFROM:-0400
TZOFFSETTO:-0500
TZNAME:EST
DTSTART:20251102T060000
END:STANDARD
BEGIN:DAYLIGHT
TZOFFSETFROM:-0500
TZOFFSETTO:-0400
TZNAME:EDT
DTSTART:20260308T070000
END:DAYLIGHT
BEGIN:STANDARD
TZOFFSETFROM:-0400
TZOFFSETTO:-0500
TZNAME:EST
DTSTART:20261101T060000
END:STANDARD
END:VTIMEZONE
BEGIN:VEVENT
DTSTART;VALUE=DATE:20260226
DTEND;VALUE=DATE:20260405
DTSTAMP:20260425T160125
CREATED:20260218T163500Z
LAST-MODIFIED:20260218T163500Z
UID:115852-1772064000-1775347199@artinamericaguide.com
SUMMARY:Erick Johnson: Continuum
DESCRIPTION:Kathryn Markel Fine Arts is pleased to announce an upcoming exhibition of new paintings by Erick Johnson titled Continuum.  This is his third solo exhibition with the gallery. A reception for the artist will be held on February 26th from 6-8pm. \n\nJohnson’s abstract paintings explore the synergy between color and form. Irregular shapes stack and slide together\, building walls of reverberating color. The elements touch occasionally\, but most are separated by narrow white passages that create the illusion of forms suspended in space. \n\nJohnson uses handmade tools to pull paint across the surface in layered passes. Small interruptions in the lines remain as evidence of the process. Opaque and translucent bands of color play against each other\, creating rhythm and movement. Fluctuating stripes build vibrant\, shifting polygons\, while fuzzy edges bleed into the surrounding white. Some settle into place like masonry; others teeter on their neighbors. \nThe compositions feel active rather than fixed. The shapes become worlds of their own\, grazing one another and pressing against the picture’s edge. They are both grounded and moving – structured geometry animated by color.  To Johnson the shapes “often straddle the line between object and opening\, construction and evolution.” \n  \nErick Johnson holds an MFA from Bard College and a BFA from Empire State College. He has presented notable solo exhibitions\, including at the Brattleboro Museum & Art Center\, VT\, Gallery Neptune & Brown\, Wash DC\, and Furnace: Art on Paper Archive in Falls Village\, CT. He has also participated in group exhibitions at Pierogi Gallery\, NYC\, LABspace\, Hillsdale\, NY\, and Bernays Fine Art in Great Barrington\, MA amongst others. He is a new 2023 member of the historic American Abstract Artists group and lives and works in New York City.
URL:https://artinamericaguide.com/event/erick-johnson-continuum/
LOCATION:529 W 20th St. 6W\, 529 W 20th St. 6W\, New York\, NY\, 10011\, United States
ATTACH;FMTTYPE=image/jpeg:https://artinamericaguide.com/wp-content/uploads/2026/02/joh063-scaled.jpg
ORGANIZER;CN="Kathryn Markel Fine Arts":MAILTO:markel@markelfinearts.com
END:VEVENT
BEGIN:VEVENT
DTSTART;VALUE=DATE:20260115
DTEND;VALUE=DATE:20260222
DTSTAMP:20260425T160125
CREATED:20260109T153006Z
LAST-MODIFIED:20260109T153006Z
UID:115590-1768435200-1771718399@artinamericaguide.com
SUMMARY:Dana Piazza: Fall Lines
DESCRIPTION:Kathryn Markel Fine Arts is pleased to announce an upcoming exhibition of new drawings by Dana Piazza titled\,  Fall Lines.  This is his first solo exhibition with the gallery and an artist reception will be held on  January 15th. \nDana Piazza creates meticulous abstract drawings on paper that build upon one initial mark. The line based shapes are largely monochromatic and minimal. He does not plan the final composition\, instead opting to follow a set of self-imposed rules in which each line is influenced by the one before. \nPiazza’s forms are voluminous and densely patterned. Striped repetition creates a rhythm within the curved bodies. The ink lines are semi transparent and deepen as they overlap. Though the marks themselves are quite dense\, the shapes appear light as if floating. \nDiscovery and an exploration of chance are at the heart of his practice. The artist’s hand remains present in slight wavering of the lines and subtle imperfections. Though the drawings are largely improvisational\, the final forms are structured and maintain the illusion of precision and order. \nDana Piazza is an abstract artist based in Lenox\, Massachusetts. He received a BFA from Purchase College\, State University of New York. Piazza has held solo exhibitions at TURLEY\, Hudson\, NY; Art Austerlitz\, Austerlitz\, NY; Thompson Giroux Gallery\, Chatham\, NY; and Jennifer Terzian Gallery\, Litchfield\, CT. His work has also been included in shows at Ortega y Gasset Projects\, Brooklyn\, NY; Galerie Manqué\, Brooklyn\, NY; Muriel Guépin Gallery\, New York\, NY; Kathryn Markel Fine Arts\, New York\, NY; Geoffrey Young Gallery\, Great Barrington\, MA; and Brattleboro Museum & Art Center\, Brattleboro\, VT.
URL:https://artinamericaguide.com/event/dana-piazza-fall-lines/
LOCATION:529 W 20th St. 6W\, 529 W 20th St. 6W\, New York\, NY\, 10011\, United States
ATTACH;FMTTYPE=image/jpeg:https://artinamericaguide.com/wp-content/uploads/2026/01/pia019-scaled.jpg
ORGANIZER;CN="Kathryn Markel Fine Arts":MAILTO:markel@markelfinearts.com
END:VEVENT
BEGIN:VEVENT
DTSTART;VALUE=DATE:20251023
DTEND;VALUE=DATE:20251207
DTSTAMP:20260425T160125
CREATED:20251016T163554Z
LAST-MODIFIED:20251016T163554Z
UID:114978-1761177600-1765065599@artinamericaguide.com
SUMMARY:Erin O'Brien: Room Tone
DESCRIPTION:Kathryn Markel Fine Arts is pleased to announce an upcoming exhibition of new paintings by Erin O’Brien titled\, Room Tone.  This is her second solo exhibition with the gallery and an artist reception will be held on October 23rd from 6-8pm. \nErin O’Brien culls the forms in her tender abstract paintings from personal photographs and sketches. Through simple line drawings\, she extracts compositions from the silhouettes of\, and spaces between\, objects or people in these mementos. The paintings carry a poignancy that arises from her closeness to the subject. They serve to reaffirm the importance of these connections – and of the photographs and sketches that hold them. She makes by hand a physical\, precious version\, yet abstracts it to maintain privacy and intimacy. \nShe is interested in what is revealed and concealed\, absent and present\, allowing for multiple meanings and a sense of uncertainty. The title of the exhibition further underscores this concern: “Room Tone is taken from the world of film and video production and refers to the sound of a room when everyone in it is still and silent. The phrase refers to what is present within a perceived absence.” \nThe palettes are improvised. One color impacts her choice for the next as she considers how shape\, color\, and the linen surface interact. For O’Brien\, flat colors become both presence and void; with the right combination of colors\, a single shape can become both.  Lines and shapes are placed thoughtfully\, connecting\, defining\, breaking\, and enveloping each other. Both hard edges and areas of dissipating color coexist\, creating a tense\, evocative energy that draws the viewer in. \nErin O’Brien was born in Massachusetts and lives and works in Catskill\, New York. She holds an MFA from Bard College and a BFA from Massachusetts College of Art. Her work has been shown at Kathryn Markel Fine Art (New York\, NY); Bethanien (Berlin\, Germany); 106 Green  (New York\, NY); Mana Contemporary (Jersey City\, NJ); Palazzo Monti (Brescia\, Italy); Tiger Strikes Asteroid (Brooklyn\, NY); and Hyde Park Art Center (Chicago\, IL)\, among others. Her paintings were featured in Art Maze Magazine\, Issue 11\, and an interview with her appeared in Maake Magazine\, Issue 6. O’Brien is the recipient of residency fellowships from Palazzo Monti; Weir Farm National Historic Site; Woodstock Byrdcliffe Guild; and Anderson Ranch Arts Center.
URL:https://artinamericaguide.com/event/erin-obrien-room-tone/
LOCATION:529 W 20th St. 6W\, 529 W 20th St. 6W\, New York\, NY\, 10011\, United States
ATTACH;FMTTYPE=image/jpeg:https://artinamericaguide.com/wp-content/uploads/2025/10/obri033.jpg
ORGANIZER;CN="Kathryn Markel Fine Arts":MAILTO:markel@markelfinearts.com
END:VEVENT
BEGIN:VEVENT
DTSTART;VALUE=DATE:20250626
DTEND;VALUE=DATE:20250802
DTSTAMP:20260425T160125
CREATED:20250616T142734Z
LAST-MODIFIED:20250616T142734Z
UID:113705-1750896000-1754092799@artinamericaguide.com
SUMMARY:Stanley Bielen: A Modest Arrangement
DESCRIPTION:Kathryn Markel Fine Arts is pleased to announce an upcoming exhibition of new paintings by Stanley Bielen.  This is his fifth exhibition with the gallery and features his intimate still life paintings. An artist reception will be held June 26th from 6-8pm. \nBielen’s process begins outside of the studio with planting the flowers he will later paint. He brings the clippings he cultivates to his studio and renders them in voluminous\, rich brushwork. The blooms are typically painted at scale in one session\, immortalizing them in that moment. Reveling in the paint itself\, Bielen depicts the objects with a sense of immediacy\, as if glimpsed and remembered in an instant. \nFlowers\, fruits\, and vessels are modeled with gestural\, loaded brushstrokes. The forms take on a dimensional\, tactile quality as Bielen sculpts shadow\, builds up dense backgrounds\, or lays down generous daubs of paint to portray petals. Irregular\, impasto shapes define structure\, light\, and shadow\, making the work at once abstract and recognizable. Lush colors emerge vividly against stark black or white grounds. \nIn subject and medium the paintings are traditional\, echoing still-life conventions\, but Bielen’s lavish paint handling and pared-down settings feel decidedly contemporary. His work draws on the dramatic chiaroscuro of the Baroque\, channeling its theatrical lighting and deep tonal contrasts to intensify the physicality of each painting. \nStanley Bielen was born in the Podkarpackie region of Poland.  He studied at the Pennsylvania Academy of Fine Art and is influenced by the long regional realist tradition called the Philadelphia School.  He exhibits nationally and is represented in public and private collections including the Hirschhorn Museum and Sculpture Garden and the Pennsylvania Academy of Fine Art.  Stanley lives and works in Philadelphia\, Pennsylvania and Bridgton\, Maine.
URL:https://artinamericaguide.com/event/stanley-bielen-a-modest-arrangement/
LOCATION:529 W 20th St. 6W\, 529 W 20th St. 6W\, New York\, NY\, 10011\, United States
CATEGORIES:Exhibition
ATTACH;FMTTYPE=image/jpeg:https://artinamericaguide.com/wp-content/uploads/2025/06/bie092.jpg
ORGANIZER;CN="Kathryn Markel Fine Arts":MAILTO:markel@markelfinearts.com
END:VEVENT
BEGIN:VEVENT
DTSTART;TZID=America/New_York:20250227T100000
DTEND;TZID=America/New_York:20250405T180000
DTSTAMP:20260425T160125
CREATED:20250205T200436Z
LAST-MODIFIED:20250205T200436Z
UID:111995-1740650400-1743876000@artinamericaguide.com
SUMMARY:Greg Chann : Synaptic Structures
DESCRIPTION:Kathryn Markel Fine Arts is delighted to announce an upcoming exhibition of recent sculptures by Greg Chann. Synaptic Structures will be Chann’s first solo show with the gallery. \nChann constructs both free standing and wall mounted sculptures from cut acrylic and tones them by delicately airbrushing multicolored inks across the transparent surfaces. The resulting objects are perfectly balanced with precisely arranged geometric forms that play with space and density as they emerge from the wall or plinth. Colors range from glossy and vibrant to muted and hazy as light filters through each lucent plane. Layers overlap\, disrupting flat colors with shadow and reflections as one hue melts into the next. \nTaking influence from a variety of imagery\, Chann sets out to depict the “intricate interconnectedness of our world.” Many of the works are reminiscent of architecture\, the angular forms suggesting a skyline or lines on a map. Smoky colors call to mind the smog of a city street while intense jewel tones suggest lights or neon signs. Balance and harmony are at the heart of the work and as such they create a serene\, introspective environment. Chann explains\, “Derived from ancient symbols such as the Chinese Yin and Yang and influenced by the meditative complexity found in Buddhist mandalas\, my art invites viewers on a contemplative journey.” \nGreg Chann has shown his work with Denise Bibro Fine Art\, NYC; Dorsky Gallery\, NYC; Margaret Thatcher Projects\, NYC; The Drawing Center\, NYC; among other spaces around the country. His work has appeared in The New Yorker\, NY Arts\, and Time Out New York. He has received a NY Foundation of the Arts Fellowship\, and the NY Foundations of the Arts/Felissimo Award and lives and works in New York.
URL:https://artinamericaguide.com/event/greg-chann-synaptic-structures/
LOCATION:529 W 20th St. 6W\, 529 W 20th St. 6W\, New York\, NY\, 10011\, United States
CATEGORIES:Exhibition
ATTACH;FMTTYPE=image/jpeg:https://artinamericaguide.com/wp-content/uploads/2025/02/2.-Wall-Stack-VII-scaled.jpg
ORGANIZER;CN="Kathryn Markel Fine Arts":MAILTO:markel@markelfinearts.com
END:VEVENT
BEGIN:VEVENT
DTSTART;VALUE=DATE:20250116
DTEND;VALUE=DATE:20250223
DTSTAMP:20260425T160125
CREATED:20241216T213443Z
LAST-MODIFIED:20241216T213443Z
UID:111205-1736985600-1740268799@artinamericaguide.com
SUMMARY:Samantha Haring & Tess Michalik : Reprieve
DESCRIPTION:Kathryn Markel Fine Arts is delighted to announce an upcoming exhibition of paintings and works on paper by Samantha Haring and Tess Michalik\, Reprieve. Haring and Michalik met while studying at Northern Illinois University and have maintained a friendship ever since. Though their respective techniques diverge\, they find common ground in their romantic treatment of domestic subjects. \nHaring’s oeuvre commemorates the quotidian trappings of the artist’s life. Bubblewrap\, cardboard boxes\, and glass jars are portrayed with the masterful sensitivity of a Dutch still-life. Of her work\, the artist states\, “I make quiet paintings in a noisy world.” Indeed\, in subdued shades of chalk pastel and oil paint\, Haring crafts an immersive scene\, offering a serene reprieve from the excess of consumer culture. \nInspired by vintage wallpaper designs\, Michalik renders delicate floral subjects in voluptuous layers of impasto. Languid brushstrokes animate each petal and leaf recalling the sensuous ornamentation of Rococo. On her practice\, Michalik writes\, “painting is a celebration of joy\, anxiety\, simple pleasures\, decoration\, ornamentation\, and the material nature of paint.” \n\nSamantha Haring is an artist and educator based in Cincinnati\, OH. She has  held solo shows across the United States\, including at the Gumtree Museum of Art in Mississippi\, Gallery 19 in Chicago\, and the Ohio State University.  Haring’s work is published in issues #119 and #123 of New American Paintings\, as well as in several recent Manifest INDA and INPA publications. \nMichalik has exhibited internationally in art institutions\, fairs\, university galleries\, community spaces\, and commercial galleries including the Schoolhouse Gallery in Massachusetts\, the Winnipeg Art Gallery in Manitoba\, and the Wonder Fair in Kansas. Her paintings have been published internationally in Architectural Digest. Michalik’s newspaper\, Devour\, was published in collaboration with Brooklyn based Raw Meat Collective\, and was recently acquired by the Museum of Modern Art Library in New York as part of the exhibit\, “Please Knock: A Teen Album of Art” Michalik lives and works in Brooklyn\, NY.
URL:https://artinamericaguide.com/event/samantha-haring-tess-michalik-reprieve/
LOCATION:529 W 20th St. 6W\, 529 W 20th St. 6W\, New York\, NY\, 10011\, United States
CATEGORIES:Exhibition
ATTACH;FMTTYPE=image/jpeg:https://artinamericaguide.com/wp-content/uploads/2024/12/Hari023.jpg
ORGANIZER;CN="Kathryn Markel Fine Arts":MAILTO:markel@markelfinearts.com
END:VEVENT
BEGIN:VEVENT
DTSTART;VALUE=DATE:20240905
DTEND;VALUE=DATE:20241014
DTSTAMP:20260425T160125
CREATED:20240816T021549Z
LAST-MODIFIED:20240830T190430Z
UID:109638-1725494400-1728863999@artinamericaguide.com
SUMMARY:Gillian Theobald: Gardenwork
DESCRIPTION:Exhibition of new work by Gillian Theobald
URL:https://artinamericaguide.com/event/gillian-theobald-gardenwork/
LOCATION:529 W 20th St. 6W\, 529 W 20th St. 6W\, New York\, NY\, 10011\, United States
CATEGORIES:Exhibition
ATTACH;FMTTYPE=image/jpeg:https://artinamericaguide.com/wp-content/uploads/2024/08/theo034-scaled.jpg
ORGANIZER;CN="Kathryn Markel Fine Arts":MAILTO:markel@markelfinearts.com
END:VEVENT
BEGIN:VEVENT
DTSTART;TZID=America/New_York:20240620T100000
DTEND;TZID=America/New_York:20240726T180000
DTSTAMP:20260425T160125
CREATED:20240612T150953Z
LAST-MODIFIED:20240612T150953Z
UID:108819-1718877600-1722016800@artinamericaguide.com
SUMMARY:Ky Anderson: I Make Plans With the Landscape
DESCRIPTION:Ideas take center stage in Ky Anderson’s abstract paintings. She engages in a continuous process of improvisation and translation using a  visual language of bold curves and solid geometry that contrasts with passages of delicate transparencies. Using a variety of mediums\, she works on multiple paintings simultaneously\, building up translucent layers of oil and acrylic\, as ideas flow freely from painting to painting. Layered paint covers past gestures and thin paint reveals the history of the process. This serial process creates interconnected bodies of work but each painting stands as evidence of the search\, exploring endless possibilities of shape\, color\, and line. \n  \nAnderson’s abstractions always evolve in response to her world. These recent paintings reflect the fact that after living 25 years in Brooklyn\, Anderson has spent the last 4 in KC\, in an entirely different environment filled with trees\, space and a midwestern light. She says\, “Each piece in this body of work reflects my experiences and observations in my new setting. Suspended between abstraction and landscape\, this body of work speaks of flowing water\, trees falling\, dramatic weather\, a city at dusk\, the changing light through the seasons\, and the cycles of life and death\, both in flora and in the people around me.” \n  \n  \nKy Anderson(b. 1973\, Kansas City)has exhibited widely throughout the United States\, Canada and Europe in solo shows\, group shows\, art fairs and public institutions. Solo shows include exhibitions at Sherry Leedy Contemporary Art in Kansas City\, MO\, Kathryn Markel Fine Art in New York\, NY\, Republic Gallery in Vancouver\, CA\, Jack Fischer Gallery in San Francisco\, CA and Zeitgeist in Nashville\, TN. She is a founding member of PAPER GIANTS\, an art collective painting large scale works on paper with exhibitions at Moore College of Art\, The University of Northern Iowa and more. Recent residencies include Saltonstall Foundation and Vermont Studio Center. Anderson was born and raised in Kansas City\, MO and received her BFA The Kansas City Art Institute. She now lives and works in Kansas City. \n 
URL:https://artinamericaguide.com/event/ky-anderson-i-make-plans-with-the-landscape/
LOCATION:529 W 20th St. 6W\, 529 W 20th St. 6W\, New York\, NY\, 10011\, United States
CATEGORIES:Exhibition
ATTACH;FMTTYPE=image/jpeg:https://artinamericaguide.com/wp-content/uploads/2024/06/Ky-Anderson-canvas-65x80-City-at-Dusk-24.2-13800-2024.jpg
ORGANIZER;CN="Kathryn Markel Fine Arts":MAILTO:markel@markelfinearts.com
END:VEVENT
END:VCALENDAR