BEGIN:VCALENDAR
VERSION:2.0
PRODID:-//Art in America Guide - ECPv6.7.0//NONSGML v1.0//EN
CALSCALE:GREGORIAN
METHOD:PUBLISH
X-ORIGINAL-URL:https://artinamericaguide.com
X-WR-CALDESC:Events for Art in America Guide
REFRESH-INTERVAL;VALUE=DURATION:PT1H
X-Robots-Tag:noindex
X-PUBLISHED-TTL:PT1H
BEGIN:VTIMEZONE
TZID:America/Halifax
BEGIN:DAYLIGHT
TZOFFSETFROM:-0400
TZOFFSETTO:-0300
TZNAME:ADT
DTSTART:20200308T060000
END:DAYLIGHT
BEGIN:STANDARD
TZOFFSETFROM:-0300
TZOFFSETTO:-0400
TZNAME:AST
DTSTART:20201101T050000
END:STANDARD
END:VTIMEZONE
BEGIN:VEVENT
DTSTART;TZID=America/Halifax:20200724T110000
DTEND;TZID=America/Halifax:20200724T120000
DTSTAMP:20260421T162025
CREATED:20200707T183811Z
LAST-MODIFIED:20200721T163611Z
UID:69688-1595588400-1595592000@artinamericaguide.com
SUMMARY:Shades in Black-and-White—American Portrait Silhouettes
DESCRIPTION:American portrait silhouettes were made from the late 1700s through the 1830s by a variety of people—from trained portrait artists and itinerant artist/peddlers to family members snipping away in the drawing room. The materials and techniques used to make these objects represent an equally compelling range reflecting the variety of makers. \nIn this session\, paper conservator Penley Knipe will explore the history of this charming form of portraiture and clues about their making gleaned through close examination of examples in the Harvard Art Museums\, including the work of contemporary artist Kara Walker. \nLed by:\nPenley Knipe\, Philip and Lynn Straus Senior Conservator of Works on Paper and Head of the Paper Lab\, Straus Center for Conservation and Technical Studies \nThis virtual seminar will take place online via Zoom. Free admission\, but registration is required. To register\, please complete this online form. \nYou will receive an email confirming your registration along with a Zoom link and password for the program. If you have any questions\, please contact am_register@harvard.edu.
URL:https://artinamericaguide.com/event/shades-in-black-and-white-american-portrait-silhouettes/
LOCATION:MA
CATEGORIES:Event
ATTACH;FMTTYPE=image/jpeg:https://artinamericaguide.com/wp-content/uploads/2020/07/silhouettes.jpg
ORGANIZER;CN="Harvard Art Museums":MAILTO:john_connolly@harvard.edu
GEO:42.4072107;-71.3824374
END:VEVENT
END:VCALENDAR