BEGIN:VCALENDAR
VERSION:2.0
PRODID:-//Art in America Guide - ECPv6.7.0//NONSGML v1.0//EN
CALSCALE:GREGORIAN
METHOD:PUBLISH
X-ORIGINAL-URL:https://artinamericaguide.com
X-WR-CALDESC:Events for Art in America Guide
REFRESH-INTERVAL;VALUE=DURATION:PT1H
X-Robots-Tag:noindex
X-PUBLISHED-TTL:PT1H
BEGIN:VTIMEZONE
TZID:America/New_York
BEGIN:DAYLIGHT
TZOFFSETFROM:-0500
TZOFFSETTO:-0400
TZNAME:EDT
DTSTART:20260308T070000
END:DAYLIGHT
BEGIN:STANDARD
TZOFFSETFROM:-0400
TZOFFSETTO:-0500
TZNAME:EST
DTSTART:20261101T060000
END:STANDARD
END:VTIMEZONE
BEGIN:VEVENT
DTSTART;VALUE=DATE:20260423
DTEND;VALUE=DATE:20260531
DTSTAMP:20260423T042451
CREATED:20260417T194937Z
LAST-MODIFIED:20260417T194937Z
UID:116260-1776902400-1780185599@artinamericaguide.com
SUMMARY:Louisa Chase: The Eighties
DESCRIPTION:Berry Campbell is pleased to present Louisa Chase: The Eighties\, on view April 23 through May 30\, 2026. Marking the artist’s first exhibition with the gallery since announcing representation of her estate\, this exhibition features paintings and works on paper from the mid-1970s to the mid-1980s\, a pivotal and emotionally expressive period of Chase’s practice. This exhibition will be Chase’s largest and most comprehensive in New York City in over 25 years.
URL:https://artinamericaguide.com/event/louisa-chase-the-eighties/
LOCATION:Berry Campbell Gallery\, 524 W 26th Street\, New York\, NY\, 10001\, United States
CATEGORIES:Exhibition
ATTACH;FMTTYPE=image/jpeg:https://artinamericaguide.com/wp-content/uploads/2026/04/chase_LCHA_00257_f-copy.jpg
ORGANIZER;CN="Berry Campbell":MAILTO:em@berrycampbell.com
GEO:40.7488193;-74.0052789
X-APPLE-STRUCTURED-LOCATION;VALUE=URI;X-ADDRESS=Berry Campbell Gallery 524 W 26th Street New York NY 10001 United States;X-APPLE-RADIUS=500;X-TITLE=524 W 26th Street:geo:-74.0052789,40.7488193
END:VEVENT
END:VCALENDAR