BEGIN:VCALENDAR
VERSION:2.0
PRODID:-//Art in America Guide - ECPv6.7.0//NONSGML v1.0//EN
CALSCALE:GREGORIAN
METHOD:PUBLISH
X-ORIGINAL-URL:https://artinamericaguide.com
X-WR-CALDESC:Events for Art in America Guide
REFRESH-INTERVAL;VALUE=DURATION:PT1H
X-Robots-Tag:noindex
X-PUBLISHED-TTL:PT1H
BEGIN:VTIMEZONE
TZID:America/New_York
BEGIN:DAYLIGHT
TZOFFSETFROM:-0500
TZOFFSETTO:-0400
TZNAME:EDT
DTSTART:20250309T070000
END:DAYLIGHT
BEGIN:STANDARD
TZOFFSETFROM:-0400
TZOFFSETTO:-0500
TZNAME:EST
DTSTART:20251102T060000
END:STANDARD
END:VTIMEZONE
BEGIN:VEVENT
DTSTART;TZID=America/New_York:20250415T173000
DTEND;TZID=America/New_York:20250415T183000
DTSTAMP:20260425T130343
CREATED:20250225T153331Z
LAST-MODIFIED:20250225T153331Z
UID:112292-1744738200-1744741800@artinamericaguide.com
SUMMARY:Tandem Talks – Artist Talk: Marie Watt
DESCRIPTION:Join us for an artist talk by Tandem Press artist-in-residence Marie Watt as she discusses her work and process in a free public lecture at the Chazen Museum of Art. \nMarie Watt (b. 1967\, lives and works in Portland\, OR) is a member of the Seneca Nation of Indians (Turtle Clan) and also has German-Scot ancestry. Her interdisciplinary work draws from history\, biography\, Haudenosaunee protofeminism\, and Indigenous teachings; in it she explores the intersection of history\, community\, and storytelling. Through collaborative actions\, she instigates multigenerational and cross-disciplinary conversations that might create a lens for understanding connectedness to place\, one another\, and the universe. \nWatt‘s work was featured at the Chazen Museum in 2021 in the group exhibition Companion Species. She has also recently exhibited at the Blanton Museum of Art\, Austin\, TX; The Mackenzie Art Gallery\, Saskatchewan\, Canada; Stelo Arts\, Oregon; The Buffalo History Museum\, New York; and Whitney Museum of American Art\, New York. Watt’s work is held in many public collections\, including the Albright-Knox Art Gallery\, Buffalo\, New York; Crystal Bridges Museum of American Art\, Bentonville\, Arkansas; Denver Art Museum\, Colorado; Cantor Arts Center\, Stanford\, California; Metropolitan Museum of Art\, New York; and National Museum of the American Indian\, Washington\, D.C. Watt holds an MFA in painting and printmaking from Yale University\, Connecticut\, as well as degrees from Willamette University\, Oregon\, and the Institute of American Indian Arts\, New Mexico.
URL:https://artinamericaguide.com/event/tandem-talks-artist-talk-marie-watt/
LOCATION:Chazen Museum of Art\, 750 University Ave\, Madison\, WI\, 53706\, United States
CATEGORIES:Event
ATTACH;FMTTYPE=image/jpeg:https://artinamericaguide.com/wp-content/uploads/2025/02/Watt.jpg
ORGANIZER;CN="Tandem Press":MAILTO:info@tandempress
END:VEVENT
BEGIN:VEVENT
DTSTART;TZID=America/New_York:20250405T160000
DTEND;TZID=America/New_York:20250405T183000
DTSTAMP:20260425T130343
CREATED:20250224T222014Z
LAST-MODIFIED:20250224T222014Z
UID:112286-1743868800-1743877800@artinamericaguide.com
SUMMARY:Tandem Talks - Collections Viewing: David Lynch's Prints
DESCRIPTION:View prints from the Chazen collection by Tandem Press Collaborative Artist and filmmaker David Lynch. At 5:30pm\, Tandem Press Director Katie Geha and Collaborative Printmaker Jason Ruhl will offer remarks on Lynch’s time working at Tandem Press. \nDavid Lynch’s (1946-2025) prolific\, nearly six-decade career spanned an extensive range of artmaking\, including painting\, drawing\, photography\, printmaking\, sculpture\, music\, and film. He wrote and directed critically acclaimed films such as Eraserhead (1977)\, The Elephant Man (1980)\, Blue Velvet (1986)\, Lost Highway (1997)\, Mulholland Drive (2001)\, Inland Empire (2006)\, and the television series Twin Peaks (1990–91) and Twin Peaks: The Return (2017). He collaborated with Tandem Press to create monoprints\, collographs\, and photogravures in 1997\, 1998\, 1999\, 2001\, 2008\, and 2021. \nThis event takes place in the Print Study Room at the Chazen Museum of Art. Space is limited; registration encouraged.
URL:https://artinamericaguide.com/event/tandem-talks-collections-viewing-david-lynchs-prints/
LOCATION:Chazen Museum of Art\, 750 University Ave\, Madison\, WI\, 53706\, United States
CATEGORIES:Event
ATTACH;FMTTYPE=image/jpeg:https://artinamericaguide.com/wp-content/uploads/2025/02/Lynch_02-scaled.jpg
ORGANIZER;CN="Tandem Press":MAILTO:info@tandempress
END:VEVENT
END:VCALENDAR