BEGIN:VCALENDAR
VERSION:2.0
PRODID:-//Art in America Guide - ECPv6.7.0//NONSGML v1.0//EN
CALSCALE:GREGORIAN
METHOD:PUBLISH
X-ORIGINAL-URL:https://artinamericaguide.com
X-WR-CALDESC:Events for Art in America Guide
REFRESH-INTERVAL;VALUE=DURATION:PT1H
X-Robots-Tag:noindex
X-PUBLISHED-TTL:PT1H
BEGIN:VTIMEZONE
TZID:America/Halifax
BEGIN:DAYLIGHT
TZOFFSETFROM:-0400
TZOFFSETTO:-0300
TZNAME:ADT
DTSTART:20190310T060000
END:DAYLIGHT
BEGIN:STANDARD
TZOFFSETFROM:-0300
TZOFFSETTO:-0400
TZNAME:AST
DTSTART:20191103T050000
END:STANDARD
END:VTIMEZONE
BEGIN:VEVENT
DTSTART;VALUE=DATE:20190608
DTEND;VALUE=DATE:20190727
DTSTAMP:20260419T101741
CREATED:20190529T150441Z
LAST-MODIFIED:20190529T150525Z
UID:54543-1559952000-1564185599@artinamericaguide.com
SUMMARY:Oscar Murillo: Manifestation
DESCRIPTION:David Zwirner is pleased to present new paintings by Oscar Murillo at the gallery’s London location. Including examples from several ongoing bodies of work that he seamlessly moves between\, the exhibition will highlight the artist’s expansive studio practice and the multiple ways in which he engages with the act of painting. On view for the first time will be a new body of work initiated by Murillo in 2018 that takes a more deliberate approach to the layering of information—one that is concerned simultaneously with erasure and retention\, mimicking the ways information is often received in today’s world. \nMurillo’s work will concurrently be on view in a solo presentation at Kettle’s Yard\, Cambridge\, in England (through June 23\, 2019) and in a two-person exhibition with Tony Cokes at The Shed\, New York (June 19 through August 25\, 2019). Murillo has been represented by David Zwirner since 2013. This show is his fifth solo exhibition with the gallery. \nOscar Murillo is one of four artists shortlisted to win the Turner Prize this year. Murillo has been nominated by an independent panel of judges based on two current exhibitions of his work: Violent Amnesia\, on view at Kettle’s Yard in Cambridge through June 23\, 2019\, and Oscar Murillo l Zhang Enli\, which continues through May 31\, 2019\, at chi K11 art museum\, in Shanghai\, as well as for his participation in the 10th Berlin Biennale for Contemporary Art\, We don’t need another hero\, in 2018. The other shortlisted artists are Lawrence Abu Hamdan\, Helen Cammock\, and Tai Shani. \nIn June 2019\, Murillo will present new works in Collision/Coalition\, an exhibition with Tony Cokes at The Shed in New York. \nImage: Oscar Murillo\, untitled (news)\, 2016–2019 (detail)
URL:https://artinamericaguide.com/event/oscar-murillo-manifestation/
LOCATION:David Zwirner London\, 24 Grafton Street\, Mayfair\, London\, W1S 4EZ\, United Kingdom
CATEGORIES:Exhibition
ATTACH;FMTTYPE=image/png:https://artinamericaguide.com/wp-content/uploads/2019/05/7.png
ORGANIZER;CN="David Zwirner London":MAILTO:london@davidzwirner.com
GEO:51.5094798;-0.1429836
X-APPLE-STRUCTURED-LOCATION;VALUE=URI;X-ADDRESS=David Zwirner London 24 Grafton Street Mayfair London W1S 4EZ United Kingdom;X-APPLE-RADIUS=500;X-TITLE=24 Grafton Street:geo:-0.1429836,51.5094798
END:VEVENT
BEGIN:VEVENT
DTSTART;TZID=America/Halifax:20190607T180000
DTEND;TZID=America/Halifax:20190607T200000
DTSTAMP:20260419T101741
CREATED:20190529T150709Z
LAST-MODIFIED:20190529T150709Z
UID:54547-1559930400-1559937600@artinamericaguide.com
SUMMARY:Opening Reception for Oscar Murillo: Manifestation
DESCRIPTION:David Zwirner is pleased to present new paintings by Oscar Murillo at the gallery’s London location. Including examples from several ongoing bodies of work that he seamlessly moves between\, the exhibition will highlight the artist’s expansive studio practice and the multiple ways in which he engages with the act of painting. On view for the first time will be a new body of work initiated by Murillo in 2018 that takes a more deliberate approach to the layering of information—one that is concerned simultaneously with erasure and retention\, mimicking the ways information is often received in today’s world. \nMurillo’s work will concurrently be on view in a solo presentation at Kettle’s Yard\, Cambridge\, in England (through June 23\, 2019) and in a two-person exhibition with Tony Cokes at The Shed\, New York (June 19 through August 25\, 2019). Murillo has been represented by David Zwirner since 2013. This show is his fifth solo exhibition with the gallery. \nOscar Murillo is one of four artists shortlisted to win the Turner Prize this year. Murillo has been nominated by an independent panel of judges based on two current exhibitions of his work: Violent Amnesia\, on view at Kettle’s Yard in Cambridge through June 23\, 2019\, and Oscar Murillo l Zhang Enli\, which continues through May 31\, 2019\, at chi K11 art museum\, in Shanghai\, as well as for his participation in the 10th Berlin Biennale for Contemporary Art\, We don’t need another hero\, in 2018. The other shortlisted artists are Lawrence Abu Hamdan\, Helen Cammock\, and Tai Shani. \nIn June 2019\, Murillo will present new works in Collision/Coalition\, an exhibition with Tony Cokes at The Shed in New York. \nImage: Oscar Murillo\, untitled (news)\, 2016–2019 (detail)
URL:https://artinamericaguide.com/event/opening-reception-for-oscar-murillo-manifestation/
LOCATION:David Zwirner London\, 24 Grafton Street\, Mayfair\, London\, W1S 4EZ\, United Kingdom
CATEGORIES:Event
ATTACH;FMTTYPE=image/png:https://artinamericaguide.com/wp-content/uploads/2019/05/7.png
ORGANIZER;CN="David Zwirner London":MAILTO:london@davidzwirner.com
GEO:51.5094798;-0.1429836
X-APPLE-STRUCTURED-LOCATION;VALUE=URI;X-ADDRESS=David Zwirner London 24 Grafton Street Mayfair London W1S 4EZ United Kingdom;X-APPLE-RADIUS=500;X-TITLE=24 Grafton Street:geo:-0.1429836,51.5094798
END:VEVENT
END:VCALENDAR