BEGIN:VCALENDAR
VERSION:2.0
PRODID:-//Art in America Guide - ECPv6.7.0//NONSGML v1.0//EN
CALSCALE:GREGORIAN
METHOD:PUBLISH
X-WR-CALNAME:Art in America Guide
X-ORIGINAL-URL:https://artinamericaguide.com
X-WR-CALDESC:Events for Art in America Guide
REFRESH-INTERVAL;VALUE=DURATION:PT1H
X-Robots-Tag:noindex
X-PUBLISHED-TTL:PT1H
BEGIN:VTIMEZONE
TZID:America/Halifax
BEGIN:DAYLIGHT
TZOFFSETFROM:-0400
TZOFFSETTO:-0300
TZNAME:ADT
DTSTART:20230312T060000
END:DAYLIGHT
BEGIN:STANDARD
TZOFFSETFROM:-0300
TZOFFSETTO:-0400
TZNAME:AST
DTSTART:20231105T050000
END:STANDARD
END:VTIMEZONE
BEGIN:VEVENT
DTSTART;VALUE=DATE:20230413
DTEND;VALUE=DATE:20230515
DTSTAMP:20260425T124357
CREATED:20230510T011835Z
LAST-MODIFIED:20230510T011835Z
UID:103357-1681344000-1684108799@artinamericaguide.com
SUMMARY:Richard Harrison | Elemental
DESCRIPTION:Friedrichs Pontone is thrilled to present Elemental\, the first solo exhibition in New York of works by the acclaimed contemporary artist Richard Harrison\, on view from 13 April to 14 May 2023. \nBorn in Liverpool in 1954\, Harrison studied Medieval History at Cambridge University before receiving a BFA and MFA in Painting from Chelsea School of Art. The critic Brian Sewell was an early champion of Harrison’s work\, recognizing its committed\, insistent nature. He described the artist as ‘a visionary prophet’ and his paintings as ‘big\, bold\, beautiful\, and threatening.’ \nThe exhibition will feature a selection of Harrison’s recent works\, showcasing his signature style of bold colors\, dynamic compositions\, and intricate layers. Drawing inspiration from sources as diverse as the natural world\, the urban landscape\, and the history of abstract art\, Harrison’s paintings are a masterclass in color and form. With a career spanning over three decades\, Richard Harrison has established himself as one of the leading artists of his generation. His work combines a rigorous formal approach with a deep engagement with nature and the history of art\, resulting in a body of work that is both visually stunning and intellectually stimulating. \nHarrison’s paintings are known for their vibrant hues\, ranging from bold primaries to delicate pastels\, which create a sense of movement and energy on the canvas. His compositions are equally dynamic\, with sweeping arcs\, jagged lines\, and geometric shapes interlocking in a complex dance of form and space. These are Romantic paintings\, concerned with struggle\, the ‘sublime’ and intense emotion. They are rooted in the artist’s desire to experience more than the everyday and a frustration with the tedium of a highly mediated and disassociated world. He aligns himself with his historical heroes: Goya’s somber imaginings\, Turner’s evocations of elemental power and Bacon’s existential despair. He sees them as fellow outsiders enacting a Nietzschean contest for mastery of the self. We see him as the mounted figure carving a path through a sea of paint. \nHarrison’s works are rich in color and texture with generous lashings of paint\, which ebb and flow on the canvas reflecting turbulence and often violent upheaval. His paintings are awesome in scale; their content exaggerated by the vigorous and robust handling of voluminous layers of paint adeptly manipulated to create a dynamic expression of form and color which resonate all-over the canvas thus underpinning the powerful emotional and visionary themes ever present in the artist’s compositions. The artist strives for an intensely uncompromising and powerful effect\, which he describes as ‘no half measures’. Using the language of abstraction to capture the essence of the natural world\, his paintings evoke the play of light and shadow\, the movement of wind and water\, and the textures of rocks and trees. They are at once abstract and representational\, inviting the viewer to experience the landscape in a new way.
URL:https://artinamericaguide.com/event/richard-harrison-elemental/
LOCATION:Friedrichs Pontone\, 273 Church Street\, New York\, 10013\, United States
CATEGORIES:Exhibition
ATTACH;FMTTYPE=image/jpeg:https://artinamericaguide.com/wp-content/uploads/2023/05/2019-6-There-was-Winter-In-My-Heart-anna-scaled.jpg
ORGANIZER;CN="Friedrichs Pontone":MAILTO:enquiries@friedrichspontone.com
END:VEVENT
END:VCALENDAR