BEGIN:VCALENDAR
VERSION:2.0
PRODID:-//Art in America Guide - ECPv6.7.0//NONSGML v1.0//EN
CALSCALE:GREGORIAN
METHOD:PUBLISH
X-ORIGINAL-URL:https://artinamericaguide.com
X-WR-CALDESC:Events for Art in America Guide
REFRESH-INTERVAL;VALUE=DURATION:PT1H
X-Robots-Tag:noindex
X-PUBLISHED-TTL:PT1H
BEGIN:VTIMEZONE
TZID:America/New_York
BEGIN:DAYLIGHT
TZOFFSETFROM:-0500
TZOFFSETTO:-0400
TZNAME:EDT
DTSTART:20240310T070000
END:DAYLIGHT
BEGIN:STANDARD
TZOFFSETFROM:-0400
TZOFFSETTO:-0500
TZNAME:EST
DTSTART:20241103T060000
END:STANDARD
END:VTIMEZONE
BEGIN:VEVENT
DTSTART;TZID=America/New_York:20241205T120000
DTEND;TZID=America/New_York:20241207T190000
DTSTAMP:20260421T042910
CREATED:20241122T192510Z
LAST-MODIFIED:20241122T192510Z
UID:110779-1733400000-1733598000@artinamericaguide.com
SUMMARY:The CAMP Gallery at Feria Clandestina 2024
DESCRIPTION:The Contemporary Art Modern Project will be exhibiting at Feria Clandestina this Art Week from December 5–7. Room 214 will feature an eclectic showcase of cyanotype and painting. \nMargaret Roleke\, Hermes Berrío\, and Lydia Viscardi explore opposing social forces in The Contemporary Art Modern Project’s room at the Gold Dust Motel. These artists tackle the aesthetics of their environments and the day-to-day experiences within them\, from urban and suburban domesticity and how gun violence endangers both\, as a reminder of what we have and what can tear everything apart. \nFor a full schedule of show hours\, click here: https://lnkd.in/efZwnXAp \nClandestina was founded by Nuria Richards in 2019 as a collateral art initiative and is a channel of participation for artists\, galleries\, and independent projects. Clandestinar with the local and international community to create ecosystems that promote curatorial opportunities and cultural exchange. Clandestina aims to create a new art market that nurtures curatorial value\, engage the curiosity of new and old art members.
URL:https://artinamericaguide.com/event/the-camp-gallery-at-feria-clandestina-2024/
LOCATION:Gold Dust Motel\, 7700 Biscayne Blvd\, Miami\, FL\, 33138\, United States
CATEGORIES:Art Fair
ATTACH;FMTTYPE=image/jpeg:https://artinamericaguide.com/wp-content/uploads/2024/11/FAIR-INVITES-SQUARE-2024-04.jpg
ORGANIZER;CN="The Contemporary Art Modern Project":MAILTO:maria@thecampgallery.com
END:VEVENT
END:VCALENDAR