BEGIN:VCALENDAR
VERSION:2.0
PRODID:-//Art in America Guide - ECPv6.7.0//NONSGML v1.0//EN
CALSCALE:GREGORIAN
METHOD:PUBLISH
X-WR-CALNAME:Art in America Guide
X-ORIGINAL-URL:https://artinamericaguide.com
X-WR-CALDESC:Events for Art in America Guide
REFRESH-INTERVAL;VALUE=DURATION:PT1H
X-Robots-Tag:noindex
X-PUBLISHED-TTL:PT1H
BEGIN:VTIMEZONE
TZID:America/Halifax
BEGIN:DAYLIGHT
TZOFFSETFROM:-0400
TZOFFSETTO:-0300
TZNAME:ADT
DTSTART:20220313T060000
END:DAYLIGHT
BEGIN:STANDARD
TZOFFSETFROM:-0300
TZOFFSETTO:-0400
TZNAME:AST
DTSTART:20221106T050000
END:STANDARD
END:VTIMEZONE
BEGIN:VEVENT
DTSTART;TZID=America/Halifax:20220811T110000
DTEND;TZID=America/Halifax:20220814T180000
DTSTAMP:20260425T124438
CREATED:20220727T203207Z
LAST-MODIFIED:20220727T214149Z
UID:95221-1660215600-1660500000@artinamericaguide.com
SUMMARY:Cross Contemporary Art Projects at Art Market Hamptons
DESCRIPTION:Join Cross Contemporary Art Projects for a pop-up exhibition at Art Market Hamptons of paintings and drawings by contemporary artists with work by Virginia Bradley\, Susan Copich\, Laura Hexner\, Kaethe Kauffman\, Anne Leith\, Lowell Miller\, Bobbie Moline-Kramer\,  Alvin Roy\, Kurt Steger\,  Melinda Stickney-Gibson\, Lou Tavelli and Martin Weinstein. Art Market Hamptons is located at: Nova’s Ark Project & Sculpture Park\, 206 Millstone Road\, Water Mill\, NY 11977 and Cross Contemporary Art Projects is in Booth F25 \nMore info: https://artmarkethamptons.com/
URL:https://artinamericaguide.com/event/cross-contemporary-art-projects-at-art-market-hamptons/
LOCATION:Nova’s Ark Project & Sculpture Park\, 206 Millstone Road\, Water Mill\, NY\, 11976\, United States
CATEGORIES:Art Fair
ATTACH;FMTTYPE=image/jpeg:https://artinamericaguide.com/wp-content/uploads/2022/07/NEW-Art-Market-Hamptons-Banner.jpg
ORGANIZER;CN="Art Market Productions":MAILTO:info@amp.events
END:VEVENT
END:VCALENDAR