BEGIN:VCALENDAR
VERSION:2.0
PRODID:-//Art in America Guide - ECPv6.7.0//NONSGML v1.0//EN
CALSCALE:GREGORIAN
METHOD:PUBLISH
X-WR-CALNAME:Art in America Guide
X-ORIGINAL-URL:https://artinamericaguide.com
X-WR-CALDESC:Events for Art in America Guide
REFRESH-INTERVAL;VALUE=DURATION:PT1H
X-Robots-Tag:noindex
X-PUBLISHED-TTL:PT1H
BEGIN:VTIMEZONE
TZID:America/New_York
BEGIN:DAYLIGHT
TZOFFSETFROM:-0500
TZOFFSETTO:-0400
TZNAME:EDT
DTSTART:20230312T070000
END:DAYLIGHT
BEGIN:STANDARD
TZOFFSETFROM:-0400
TZOFFSETTO:-0500
TZNAME:EST
DTSTART:20231105T060000
END:STANDARD
END:VTIMEZONE
BEGIN:VEVENT
DTSTART;TZID=America/New_York:20231207T080000
DTEND;TZID=America/New_York:20231207T170000
DTSTAMP:20260423T033624
CREATED:20231207T151007Z
LAST-MODIFIED:20231207T151024Z
UID:106158-1701936000-1701968400@artinamericaguide.com
SUMMARY:Jane Lombard Gallery at Untitled Art\, Miami Beach Booth B5
DESCRIPTION:Drawing from multigenerational multidisciplinary practices\, this all-female presentation collectively considers the poetics of everyday experiences and their relationship to the landscape.. Through paintings and layered textile collages\, Struble explores that which  is altered by humans\, reclaimed by nature\, and what results from their symbiotic interaction. Pollard creates paintings and sculptures that investigate our everyday tendency to reconcile contradictory phenomena. Zelter’s paintings and ceramic grids decontextualize the familiar\, compelling viewers to negotiate their place within society. Cabrera’s soft sculpture and layered compositions employ culturally-specific media to comment on the Mexican migrant experience. The presented works collectively urge viewers to acknowledge their own positioning by revealing our biases\, subjectivities\, and the critical context that dictates what we think we know and why. \n\nImages: Booth installation view. Photo credit: Adam Reich. Images courtesy of the artist\, and Jane Lombard Gallery.
URL:https://artinamericaguide.com/event/jane-lombard-gallery-at-untitled-art/
LOCATION:UNTITLED\, 12th Street and Ocean Drive\, Miami Beach\, FL\, 33139\, United States
CATEGORIES:Art Fair
ATTACH;FMTTYPE=image/jpeg:https://artinamericaguide.com/wp-content/uploads/2023/12/web_jane_lombard.jpg
ORGANIZER;CN="Jane Lombard Gallery":MAILTO:info@janelombardgallery.com
END:VEVENT
END:VCALENDAR